BEGIN:VCALENDAR
VERSION:2.0
PRODID:-//Georgia VFW - ECPv6.15.20//NONSGML v1.0//EN
CALSCALE:GREGORIAN
METHOD:PUBLISH
X-WR-CALNAME:Georgia VFW
X-ORIGINAL-URL:https://georgiavfw.org
X-WR-CALDESC:Events for Georgia VFW
REFRESH-INTERVAL;VALUE=DURATION:PT1H
X-Robots-Tag:noindex
X-PUBLISHED-TTL:PT1H
BEGIN:VTIMEZONE
TZID:America/New_York
BEGIN:DAYLIGHT
TZOFFSETFROM:-0500
TZOFFSETTO:-0400
TZNAME:EDT
DTSTART:20230312T070000
END:DAYLIGHT
BEGIN:STANDARD
TZOFFSETFROM:-0400
TZOFFSETTO:-0500
TZNAME:EST
DTSTART:20231105T060000
END:STANDARD
BEGIN:DAYLIGHT
TZOFFSETFROM:-0500
TZOFFSETTO:-0400
TZNAME:EDT
DTSTART:20240310T070000
END:DAYLIGHT
BEGIN:STANDARD
TZOFFSETFROM:-0400
TZOFFSETTO:-0500
TZNAME:EST
DTSTART:20241103T060000
END:STANDARD
BEGIN:DAYLIGHT
TZOFFSETFROM:-0500
TZOFFSETTO:-0400
TZNAME:EDT
DTSTART:20250309T070000
END:DAYLIGHT
BEGIN:STANDARD
TZOFFSETFROM:-0400
TZOFFSETTO:-0500
TZNAME:EST
DTSTART:20251102T060000
END:STANDARD
END:VTIMEZONE
BEGIN:VEVENT
DTSTART;TZID=America/New_York:20240606T170000
DTEND;TZID=America/New_York:20240606T190000
DTSTAMP:20260422T222322
CREATED:20240220T220006Z
LAST-MODIFIED:20240228T132051Z
UID:10000006-1717693200-1717700400@georgiavfw.org
SUMMARY:Council of Administration Meeting
DESCRIPTION:During the 2024 State Convention\, VFW Department of Georgia will hold a Council of Administration meeting on the evening prior to kicking off the convention. \nCouncil of Administration Meeting: Thursday\, June 6\, 2024 \nConvention: June 7\, 2024\, to June 9\, 2024 \n  \nMore details are forthcoming.\ngeorgiavfw
URL:https://georgiavfw.org/event/coa-2024-state-convention/
LOCATION:Macon Marriott City Center\, 240 Coliseum Dr\, Macon\, GA\, 31217\, United States
CATEGORIES:Georgia
END:VEVENT
BEGIN:VEVENT
DTSTART;TZID=America/New_York:20240606T190000
DTEND;TZID=America/New_York:20240606T210000
DTSTAMP:20260422T222322
CREATED:20240228T131852Z
LAST-MODIFIED:20240228T131852Z
UID:10000007-1717700400-1717707600@georgiavfw.org
SUMMARY:Georgia VFW Memorial Service
DESCRIPTION:During the 2024 State Convention\, Georgia VFW will hold a Department Memorial service to commemorate all of the comrades and patriots of the Auxiliary who have passed this year. \nCouncil of Administration Meeting: Thursday\, June 6\, 2024 \nConvention: June 7\, 2024\, to June 9\, 2024 \n  \nMore details are forthcoming.\ngeorgiavfw
URL:https://georgiavfw.org/event/2024memorialservice/
LOCATION:Macon Marriott City Center\, 240 Coliseum Dr\, Macon\, GA\, 31217\, United States
CATEGORIES:Georgia
END:VEVENT
BEGIN:VEVENT
DTSTART;VALUE=DATE:20240607
DTEND;VALUE=DATE:20240610
DTSTAMP:20260422T222322
CREATED:20240220T190951Z
LAST-MODIFIED:20240502T162732Z
UID:10000005-1717718400-1717977599@georgiavfw.org
SUMMARY:VFW State Convention
DESCRIPTION:  \n  \n  \n  \n  \nhttps://www.marriott.com/events/start.mi?id=1712174796389&key=GRP \n  \nCLICK TO DOWNLOAD REGISTRATION FORM \ngeorgiavfw
URL:https://georgiavfw.org/event/2024-state-convention/
LOCATION:Macon Marriott City Center\, 240 Coliseum Dr\, Macon\, GA\, 31217\, United States
CATEGORIES:Georgia
END:VEVENT
BEGIN:VEVENT
DTSTART;TZID=America/New_York:20240629T100000
DTEND;TZID=America/New_York:20240629T150000
DTSTAMP:20260422T222322
CREATED:20240612T172105Z
LAST-MODIFIED:20240619T025656Z
UID:10000011-1719655200-1719673200@georgiavfw.org
SUMMARY:GLT - June 29 Acworth
DESCRIPTION:Georgia Leadership Training will take place at Acworth / Kennesaw Post 5408 on Saturday\, June 29\, 2024. Training will be held from 1000 to 1500. \nRegistration is $10 per person. If you use a credit card\, the price per registration is $11. \n  \nTo register\, use the attached PDF form and email it to admin@georgiavfw.org. \n \ngeorgiavfw
URL:https://georgiavfw.org/event/glt-june-29-acworth/
LOCATION:VFW Post 5408 Acworth\, 4764 Cobb Parkway North NW\, Acworth\, GA\, 30101\, United States
CATEGORIES:Georgia
END:VEVENT
END:VCALENDAR