BEGIN:VCALENDAR
VERSION:2.0
PRODID:-//Georgia VFW - ECPv6.15.20//NONSGML v1.0//EN
CALSCALE:GREGORIAN
METHOD:PUBLISH
X-WR-CALNAME:Georgia VFW
X-ORIGINAL-URL:https://georgiavfw.org
X-WR-CALDESC:Events for Georgia VFW
REFRESH-INTERVAL;VALUE=DURATION:PT1H
X-Robots-Tag:noindex
X-PUBLISHED-TTL:PT1H
BEGIN:VTIMEZONE
TZID:America/New_York
BEGIN:DAYLIGHT
TZOFFSETFROM:-0500
TZOFFSETTO:-0400
TZNAME:EDT
DTSTART:20230312T070000
END:DAYLIGHT
BEGIN:STANDARD
TZOFFSETFROM:-0400
TZOFFSETTO:-0500
TZNAME:EST
DTSTART:20231105T060000
END:STANDARD
BEGIN:DAYLIGHT
TZOFFSETFROM:-0500
TZOFFSETTO:-0400
TZNAME:EDT
DTSTART:20240310T070000
END:DAYLIGHT
BEGIN:STANDARD
TZOFFSETFROM:-0400
TZOFFSETTO:-0500
TZNAME:EST
DTSTART:20241103T060000
END:STANDARD
BEGIN:DAYLIGHT
TZOFFSETFROM:-0500
TZOFFSETTO:-0400
TZNAME:EDT
DTSTART:20250309T070000
END:DAYLIGHT
BEGIN:STANDARD
TZOFFSETFROM:-0400
TZOFFSETTO:-0500
TZNAME:EST
DTSTART:20251102T060000
END:STANDARD
END:VTIMEZONE
BEGIN:VEVENT
DTSTART;VALUE=DATE:20240607
DTEND;VALUE=DATE:20240610
DTSTAMP:20260422T180940
CREATED:20240220T190951Z
LAST-MODIFIED:20240502T162732Z
UID:10000005-1717718400-1717977599@georgiavfw.org
SUMMARY:VFW State Convention
DESCRIPTION:  \n  \n  \n  \n  \nhttps://www.marriott.com/events/start.mi?id=1712174796389&key=GRP \n  \nCLICK TO DOWNLOAD REGISTRATION FORM \ngeorgiavfw
URL:https://georgiavfw.org/event/2024-state-convention/
LOCATION:Macon Marriott City Center\, 240 Coliseum Dr\, Macon\, GA\, 31217\, United States
CATEGORIES:Georgia
END:VEVENT
END:VCALENDAR